BEGIN:VCALENDAR
VERSION:2.0
PRODID:-//eventon.com NONSGML v1.0//EN
CALSCALE:GREGORIAN
METHOD:PUBLISH
BEGIN:VEVENT
UID:69e74eb09de22
DTSTAMP:20260421T111720
DTSTART:20210615
DTEND:20210619
TZID:UTC
LOCATION:
SUMMARY:GLASSTEC
DESCRIPTION:Cycle: Biennial Event Data: Exhibition Space: 66\, 945 sqm Number of Exhibitors: 1\, 276 Number of Visitors: 42\, 603 Ticket Prices: Ticket shop not yet open Show opening hours: 9am – 6pm Main product categories: Glass products and applications\,  glass processing and snapping technology\,  software\,  measurement\,  testing\,  control technology and software\,  glass production[..]\nhttps://itsluk.com/events/glasstec/
URL:https://itsluk.com/events/glasstec/
END:VEVENT
END:VCALENDAR