BEGIN:VCALENDAR
VERSION:2.0
PRODID:-//eventon.com NONSGML v1.0//EN
CALSCALE:GREGORIAN
METHOD:PUBLISH
BEGIN:VEVENT
UID:69e4ebc609208
DTSTAMP:20260419T155046
DTSTART:20211006
DTEND:20211010
TZID:UTC
LOCATION:
SUMMARY:REHACARE
DESCRIPTION:Cycle: Annual Event Data: Exhibition Space: 19\, 168 sqm Number of Exhibitors: 751 Number of Visitors: 38\, 587 Ticket Prices: Ticket shop not yet open Show opening hours: TBC Main product categories: Daily living aids and clothing\,  apprenticeship\,  workplace and occupation\,  barrier  free living\,  aids for children\,  communication\,  medical care\,  mobility and[..]\nhttps://itsluk.com/events/rehacare/
URL:https://itsluk.com/events/rehacare/
END:VEVENT
END:VCALENDAR